BEGIN:VCALENDAR
VERSION:2.0
PRODID:-//Elite Youth Tour - ECPv6.15.18//NONSGML v1.0//EN
CALSCALE:GREGORIAN
METHOD:PUBLISH
X-ORIGINAL-URL:https://stagingwebsite.tech/elite
X-WR-CALDESC:Events for Elite Youth Tour
REFRESH-INTERVAL;VALUE=DURATION:PT1H
X-Robots-Tag:noindex
X-PUBLISHED-TTL:PT1H
BEGIN:VTIMEZONE
TZID:UTC
BEGIN:STANDARD
TZOFFSETFROM:+0000
TZOFFSETTO:+0000
TZNAME:UTC
DTSTART:20250101T000000
END:STANDARD
END:VTIMEZONE
BEGIN:VEVENT
DTSTART;TZID=UTC:20260307T090000
DTEND;TZID=UTC:20260307T150000
DTSTAMP:20260422T221359
CREATED:20260302T052131Z
LAST-MODIFIED:20260415T213310Z
UID:10000007-1772874000-1772895600@stagingwebsite.tech
SUMMARY:EYT Event Arlington Heights\, IL
DESCRIPTION:Date: March 7\, 2026\nVenue: Arlington Lanes\nLocation: Arlington Heights\, IL\nTime: 9:00 AM – Approx. 3:00 PM \nLane Pattern: PBA Viper\nSocial Change on the Lanes\nSupporting: Cradles to Crayons\nProviding children with essential items to support learning and growth.
URL:https://stagingwebsite.tech/elite/event/eyt-event-arlington-heights/
LOCATION:Arlington Lanes\, 3435 N Kennicott Ave\, Arlington Heights\, IL 60004.\, Arlington Heights\, 60004\, United States
ATTACH;FMTTYPE=image/avif:https://stagingwebsite.tech/elite/wp-content/uploads/2026/03/March-7.avif
ORGANIZER;CN="Elite Youth Tour":MAILTO:diandra@eliteyouthtour.com
END:VEVENT
END:VCALENDAR