BEGIN:VCALENDAR
VERSION:2.0
PRODID:-//Elite Youth Tour - ECPv6.15.18//NONSGML v1.0//EN
CALSCALE:GREGORIAN
METHOD:PUBLISH
X-ORIGINAL-URL:https://stagingwebsite.tech/elite
X-WR-CALDESC:Events for Elite Youth Tour
REFRESH-INTERVAL;VALUE=DURATION:PT1H
X-Robots-Tag:noindex
X-PUBLISHED-TTL:PT1H
BEGIN:VTIMEZONE
TZID:UTC
BEGIN:STANDARD
TZOFFSETFROM:+0000
TZOFFSETTO:+0000
TZNAME:UTC
DTSTART:20250101T000000
END:STANDARD
END:VTIMEZONE
BEGIN:VEVENT
DTSTART;TZID=UTC:20260808T090000
DTEND;TZID=UTC:20260808T150000
DTSTAMP:20260423T031122
CREATED:20260302T070322Z
LAST-MODIFIED:20260414T131035Z
UID:10000011-1786179600-1786201200@stagingwebsite.tech
SUMMARY:Storm Elite Challenge
DESCRIPTION:Storm Elite Challenge\nDate: August 8\, 2026\nVenue: Poplar Creek Bowl\nLocation: Hoffman Estates\, IL\nTime: 9:00 AM – Approx. 3:00 PM \nLane Pattern\n\n\n\n\n2025 Junior Gold #4 U12BG\, U15G\, U18G\nhttps://patternlibrary.kegel.net/pattern/410f1ffa-db6e-f011-bec3-002248093064\n\n\n\n\nSocial Change on the Lanes \nSupporting: Hines VA Toiletry Drive\nProviding essential hygiene items to veterans in need.\nURL: https://bvl.org/\nSpecial Notes: Sponsored by Storm. Season opener (2026-27 season).
URL:https://stagingwebsite.tech/elite/event/storm-elite-challenge/
LOCATION:Poplar Creek Bowl\, Poplar Creek Bowl\, 2354 W Higgins Rd\, Hoffman Estates\, 60169\, United States
ATTACH;FMTTYPE=image/avif:https://stagingwebsite.tech/elite/wp-content/uploads/2026/03/Aug-8.avif
ORGANIZER;CN="Elite Youth Tour":MAILTO:diandra@eliteyouthtour.com
END:VEVENT
END:VCALENDAR