BEGIN:VCALENDAR
VERSION:2.0
PRODID:-//Elite Youth Tour - ECPv6.15.18//NONSGML v1.0//EN
CALSCALE:GREGORIAN
METHOD:PUBLISH
X-ORIGINAL-URL:https://stagingwebsite.tech/elite
X-WR-CALDESC:Events for Elite Youth Tour
REFRESH-INTERVAL;VALUE=DURATION:PT1H
X-Robots-Tag:noindex
X-PUBLISHED-TTL:PT1H
BEGIN:VTIMEZONE
TZID:UTC
BEGIN:STANDARD
TZOFFSETFROM:+0000
TZOFFSETTO:+0000
TZNAME:UTC
DTSTART:20250101T000000
END:STANDARD
END:VTIMEZONE
BEGIN:VEVENT
DTSTART;TZID=UTC:20261114T090000
DTEND;TZID=UTC:20261114T150000
DTSTAMP:20260423T090545
CREATED:20260302T071237Z
LAST-MODIFIED:20260414T131528Z
UID:10000016-1794646800-1794668400@stagingwebsite.tech
SUMMARY:EYT November 14 | River Rand Bowl
DESCRIPTION:EYT November 14\nDate: November 14\, 2026\nVenue: River Rand Bowl | Des Plaines\, IL\nLocation: 191 S Des Plaines River Rd\, Des Plaines\, IL 60016\nTime: 9:00 AM – Approx. 3:00 PM \nLane Pattern\n\n\n\n\n2025 Striking Against Breast Cancer\nhttps://patternlibrary.kegel.net/pattern/9d317330-dc46-f011-877a-00224803f80b\n\n\n\n\nSocial Change on the Lanes \nSupporting: Greater Food Depository\nHelping fight hunger across Chicagoland communities.
URL:https://stagingwebsite.tech/elite/event/eyt-november-14-river-rand-bowl/
LOCATION:River Rand Bowl\, River Rand Bowl\, 191 S River Rd\, Des Plaines\, 60016\, United States
ATTACH;FMTTYPE=image/avif:https://stagingwebsite.tech/elite/wp-content/uploads/2026/03/nov-14.avif
ORGANIZER;CN="Elite Youth Tour":MAILTO:diandra@eliteyouthtour.com
END:VEVENT
BEGIN:VEVENT
DTSTART;TZID=UTC:20261114T090000
DTEND;TZID=UTC:20261114T150000
DTSTAMP:20260423T090545
CREATED:20260414T131823Z
LAST-MODIFIED:20260414T131842Z
UID:10000024-1794646800-1794668400@stagingwebsite.tech
SUMMARY:Bowlapalooza (Holiday Doubles + TRIOS Team Cup)
DESCRIPTION:Bowlapalooza (Holiday Doubles + TRIOS Team Cup)\nDate: December 12\, 2026\nVenue: Strike N Spare II | Lockport\, IL\nAddress: 811 Northern Dr\, Lockport\, IL 60441 \nLane Pattern\n\n\n\n\n2025 Striking Against Breast Cancer\nhttps://patternlibrary.kegel.net/pattern/9d317330-dc46-f011-877a-00224803f80b\n\n\n\n\nSocial Change on the Lanes\nSpecial Notes: Holiday Doubles + TRIOS Team Cup combined into one day.
URL:https://stagingwebsite.tech/elite/event/6/
LOCATION:River Rand Bowl\, River Rand Bowl\, 191 S River Rd\, Des Plaines\, 60016\, United States
ATTACH;FMTTYPE=image/avif:https://stagingwebsite.tech/elite/wp-content/uploads/2026/03/nov-14.avif
ORGANIZER;CN="Elite Youth Tour":MAILTO:diandra@eliteyouthtour.com
END:VEVENT
END:VCALENDAR