BEGIN:VCALENDAR
VERSION:2.0
PRODID:-//Elite Youth Tour - ECPv6.15.18//NONSGML v1.0//EN
CALSCALE:GREGORIAN
METHOD:PUBLISH
X-ORIGINAL-URL:https://stagingwebsite.tech/elite
X-WR-CALDESC:Events for Elite Youth Tour
REFRESH-INTERVAL;VALUE=DURATION:PT1H
X-Robots-Tag:noindex
X-PUBLISHED-TTL:PT1H
BEGIN:VTIMEZONE
TZID:UTC
BEGIN:STANDARD
TZOFFSETFROM:+0000
TZOFFSETTO:+0000
TZNAME:UTC
DTSTART:20250101T000000
END:STANDARD
END:VTIMEZONE
BEGIN:VEVENT
DTSTART;TZID=UTC:20260627T090000
DTEND;TZID=UTC:20260627T150000
DTSTAMP:20260422T221406
CREATED:20260302T065937Z
LAST-MODIFIED:20260420T041108Z
UID:10000010-1782550800-1782572400@stagingwebsite.tech
SUMMARY:EYT June 27 | Centennial Lanes 2.0
DESCRIPTION:EYT June 27\nDate: June 27\, 2026\nVenue: Centennial Lanes 2.0\nLocation: Tinley Park\, IL\nTime: 9:00 AM – Approx. 3:00 PM \nLane Pattern\n\n\n\n\n2025 Junior Gold #1 U12BG\, U15G\, U18G\nhttps://patternlibrary.kegel.net/pattern/7670dd68-db6e-f011-bec3-002248093064\n\n\n\nSocial Change on the Lanes \n\nSupporting: Bowlers to Veterans Link\nHonoring and supporting veterans through bowling-focused initiatives.\nHalf of raffle proceeds donated.\nURL: https://strikingagainstbreastcancer.org/ \n 
URL:https://stagingwebsite.tech/elite/event/centennial-lanes/
LOCATION:Centennial Lanes\, 16050 Centennial Circle\, Tinley Park\, IL\, 60477\, United States
ATTACH;FMTTYPE=image/avif:https://stagingwebsite.tech/elite/wp-content/uploads/2026/03/June-27.avif
ORGANIZER;CN="Elite Youth Tour":MAILTO:diandra@eliteyouthtour.com
END:VEVENT
END:VCALENDAR